BEGIN:VCALENDAR
VERSION:2.0
PRODID:-//Die Mitte – Stadt Zug - ECPv6.11.2.1//NONSGML v1.0//EN
CALSCALE:GREGORIAN
METHOD:PUBLISH
X-WR-CALNAME:Die Mitte – Stadt Zug
X-ORIGINAL-URL:https://stadtzug-diemitte.ch
X-WR-CALDESC:Veranstaltungen für Die Mitte – Stadt Zug
REFRESH-INTERVAL;VALUE=DURATION:PT1H
X-Robots-Tag:noindex
X-PUBLISHED-TTL:PT1H
BEGIN:VTIMEZONE
TZID:Europe/Zurich
BEGIN:DAYLIGHT
TZOFFSETFROM:+0100
TZOFFSETTO:+0200
TZNAME:CEST
DTSTART:20260329T010000
END:DAYLIGHT
BEGIN:STANDARD
TZOFFSETFROM:+0200
TZOFFSETTO:+0100
TZNAME:CET
DTSTART:20261025T010000
END:STANDARD
END:VTIMEZONE
BEGIN:VEVENT
DTSTART;TZID=Europe/Zurich:20260421T190000
DTEND;TZID=Europe/Zurich:20260421T203000
DTSTAMP:20260421T015302
CREATED:20260315T121614Z
LAST-MODIFIED:20260408T140118Z
UID:10000022-1776798000-1776803400@stadtzug-diemitte.ch
SUMMARY:Parolenfassung Bebauungsplan Metalli und Wahlempfehlung Stadtpräsidium
DESCRIPTION:Liebe Mitglieder der Mitte Stadt Zug \nAm Dienstag\, 21. April 2026\, um 19:00 Uhr laden wir euch herzlich zur Parolenfassung der Mitte Stadt Zug zum Bebauungsplan Metalli im Restaurant Ochsen in Zug ein. \nDie Pro-Seite wird durch eine Vertretung der Bauherrschaft sowie durch das überparteiliche Pro-Komitee «Ja für Zug» vertreten. Die Contra-Seite wird von zwei Vertretern des Referendumskomitees zum Bebauungsplan Metalli präsentiert. \nIm Anschluss zur Parolenfassung möchten wir zudem unsere Position zur Wahl des Stadtpräsidiums für den Herbst festlegen. \nAbschliessend laden wir euch zu einem kleinen Apéro ein. \nWir freuen uns über eure Anmeldung bis zum 16. April 2026. \nEuer Vorstand
URL:https://stadtzug-diemitte.ch/was-ansteht-event/parolenfassung-bebauungsplan-metalli/
END:VEVENT
END:VCALENDAR